BEGIN:VCALENDAR
VERSION:2.0
PRODID:-//Antonio Romano - ECPv6.14.0//NONSGML v1.0//EN
CALSCALE:GREGORIAN
METHOD:PUBLISH
X-ORIGINAL-URL:https://www.antonioromano.com
X-WR-CALDESC:Eventi per Antonio Romano
REFRESH-INTERVAL;VALUE=DURATION:PT1H
X-Robots-Tag:noindex
X-PUBLISHED-TTL:PT1H
BEGIN:VTIMEZONE
TZID:UTC
BEGIN:STANDARD
TZOFFSETFROM:+0000
TZOFFSETTO:+0000
TZNAME:UTC
DTSTART:20230101T000000
END:STANDARD
END:VTIMEZONE
BEGIN:VEVENT
DTSTART;TZID=UTC:20230329T200000
DTEND;TZID=UTC:20240219T230000
DTSTAMP:20260423T183350
CREATED:20150930T053837Z
LAST-MODIFIED:20150930T053837Z
UID:7713-1680120000-1708383600@www.antonioromano.com
SUMMARY:New York\, NY
DESCRIPTION:Donec mollis\, metus a varius faucibus\, est magna tempor mauris\, sit amet lobortis nunc sem non lectus. Proin vitae feugiat lorem\, nec lacinia massa. Integer interdum ipsum sed placerat posuere. Etiam dapibus ante in lacus lacinia\, non convallis quam luctus. Vivamus augue nibh\, fermentum quis justo sed\, fermentum maximus magna. Morbi venenatis eros velit\, elementum sodales turpis viverra at. Phasellus finibus mauris a massa malesuada faucibus. Duis euismod vehicula enim eu placerat. Aenean dictum eget lacus in fermentum. Cras ac ipsum imperdiet\, bibendum tortor quis\, mollis risus. Aliquam quis dapibus est. Vestibulum elementum\, ante nec tristique rutrum\, risus augue dapibus sem\, ut bibendum dolor urna sed lacus.
URL:https://www.antonioromano.com/event/new-york-ny-2/
LOCATION:Central NYC Stadium\, Bucketworks\, 706 S 5th St\, Milwaukee\, New York\, NY\, United States
CATEGORIES:Tour 2017
ATTACH;FMTTYPE=image/jpeg:https://www.antonioromano.com/wp-content/uploads/2015/05/06.jpg
END:VEVENT
BEGIN:VEVENT
DTSTART;TZID=UTC:20230309T200000
DTEND;TZID=UTC:20240130T230000
DTSTAMP:20260423T183350
CREATED:20150930T054950Z
LAST-MODIFIED:20150930T054950Z
UID:7715-1678392000-1706655600@www.antonioromano.com
SUMMARY:Las Vegas\, NV
DESCRIPTION:Donec mollis\, metus a varius faucibus\, est magna tempor mauris\, sit amet lobortis nunc sem non lectus. Proin vitae feugiat lorem\, nec lacinia massa. Integer interdum ipsum sed placerat posuere. Etiam dapibus ante in lacus lacinia\, non convallis quam luctus. Vivamus augue nibh\, fermentum quis justo sed\, fermentum maximus magna. Morbi venenatis eros velit\, elementum sodales turpis viverra at. Phasellus finibus mauris a massa malesuada faucibus. Duis euismod vehicula enim eu placerat. Aenean dictum eget lacus in fermentum. Cras ac ipsum imperdiet\, bibendum tortor quis\, mollis risus. Aliquam quis dapibus est. Vestibulum elementum\, ante nec tristique rutrum\, risus augue dapibus sem\, ut bibendum dolor urna sed lacus.
URL:https://www.antonioromano.com/event/las-vegas-nv-2/
LOCATION:Central NYC Stadium\, Bucketworks\, 706 S 5th St\, Milwaukee\, New York\, NY\, United States
CATEGORIES:Tour 2017
ATTACH;FMTTYPE=image/jpeg:https://www.antonioromano.com/wp-content/uploads/2015/05/04.jpg
END:VEVENT
BEGIN:VEVENT
DTSTART;TZID=UTC:20230211T200000
DTEND;TZID=UTC:20240104T230000
DTSTAMP:20260423T183350
CREATED:20150930T054746Z
LAST-MODIFIED:20150930T054746Z
UID:7714-1676145600-1704409200@www.antonioromano.com
SUMMARY:Los Angeles\, CA
DESCRIPTION:Donec mollis\, metus a varius faucibus\, est magna tempor mauris\, sit amet lobortis nunc sem non lectus. Proin vitae feugiat lorem\, nec lacinia massa. Integer interdum ipsum sed placerat posuere. Etiam dapibus ante in lacus lacinia\, non convallis quam luctus. Vivamus augue nibh\, fermentum quis justo sed\, fermentum maximus magna. Morbi venenatis eros velit\, elementum sodales turpis viverra at. Phasellus finibus mauris a massa malesuada faucibus. Duis euismod vehicula enim eu placerat. Aenean dictum eget lacus in fermentum. Cras ac ipsum imperdiet\, bibendum tortor quis\, mollis risus. Aliquam quis dapibus est. Vestibulum elementum\, ante nec tristique rutrum\, risus augue dapibus sem\, ut bibendum dolor urna sed lacus.
URL:https://www.antonioromano.com/event/los-angeles-ca-2/
LOCATION:Meridian Hill\, 2400 15th St NW Washington\, DC 20008\, Washington\, VA\, United States
CATEGORIES:Tour 2017
ATTACH;FMTTYPE=image/jpeg:https://www.antonioromano.com/wp-content/uploads/2015/05/05.jpg
END:VEVENT
END:VCALENDAR