BEGIN:VCALENDAR
VERSION:2.0
PRODID:-//Antonio Romano - ECPv6.14.0//NONSGML v1.0//EN
CALSCALE:GREGORIAN
METHOD:PUBLISH
X-ORIGINAL-URL:https://www.antonioromano.com
X-WR-CALDESC:Eventi per Antonio Romano
REFRESH-INTERVAL;VALUE=DURATION:PT1H
X-Robots-Tag:noindex
X-PUBLISHED-TTL:PT1H
BEGIN:VTIMEZONE
TZID:UTC
BEGIN:STANDARD
TZOFFSETFROM:+0000
TZOFFSETTO:+0000
TZNAME:UTC
DTSTART:20230101T000000
END:STANDARD
END:VTIMEZONE
BEGIN:VEVENT
DTSTART;TZID=UTC:20230421T180000
DTEND;TZID=UTC:20240313T220000
DTSTAMP:20260423T182551
CREATED:20150925T124925Z
LAST-MODIFIED:20150925T124925Z
UID:7710-1682100000-1710367200@www.antonioromano.com
SUMMARY:Fiddler's Green Amphitheatre
DESCRIPTION:Donec mollis\, metus a varius faucibus\, est magna tempor mauris\, sit amet lobortis nunc sem non lectus. Proin vitae feugiat lorem\, nec lacinia massa. Integer interdum ipsum sed placerat posuere. Etiam dapibus ante in lacus lacinia\, non convallis quam luctus. Vivamus augue nibh\, fermentum quis justo sed\, fermentum maximus magna. Morbi venenatis eros velit\, elementum sodales turpis viverra at. Phasellus finibus mauris a massa malesuada faucibus. Duis euismod vehicula enim eu placerat. Aenean dictum eget lacus in fermentum. Cras ac ipsum imperdiet\, bibendum tortor quis\, mollis risus. Aliquam quis dapibus est. Vestibulum elementum\, ante nec tristique rutrum\, risus augue dapibus sem\, ut bibendum dolor urna sed lacus.
URL:https://www.antonioromano.com/event/fiddlers-green-amphitheatre-2/
LOCATION:Meridian Hill\, 2400 15th St NW Washington\, DC 20008\, Washington\, VA\, United States
CATEGORIES:Show
ATTACH;FMTTYPE=image/jpeg:https://www.antonioromano.com/wp-content/uploads/2015/05/02.jpg
ORGANIZER;CN="Andrew Doe":MAILTO:example@mail.com
END:VEVENT
BEGIN:VEVENT
DTSTART;TZID=UTC:20230203T220000
DTEND;TZID=UTC:20231227T050000
DTSTAMP:20260423T182551
CREATED:20150430T114857Z
LAST-MODIFIED:20150430T114857Z
UID:7708-1675461600-1703653200@www.antonioromano.com
SUMMARY:Dj Oreo Music Show
DESCRIPTION:Donec mollis\, metus a varius faucibus\, est magna tempor mauris\, sit amet lobortis nunc sem non lectus. Proin vitae feugiat lorem\, nec lacinia massa. Integer interdum ipsum sed placerat posuere. Etiam dapibus ante in lacus lacinia\, non convallis quam luctus. Vivamus augue nibh\, fermentum quis justo sed\, fermentum maximus magna. Morbi venenatis eros velit\, elementum sodales turpis viverra at. Phasellus finibus mauris a massa malesuada faucibus. Duis euismod vehicula enim eu placerat. Aenean dictum eget lacus in fermentum. Cras ac ipsum imperdiet\, bibendum tortor quis\, mollis risus. Aliquam quis dapibus est. Vestibulum elementum\, ante nec tristique rutrum\, risus augue dapibus sem\, ut bibendum dolor urna sed lacus.
URL:https://www.antonioromano.com/event/dj-oreo-music-show-2/
LOCATION:Red Cross Headquarters\, 2025 E Street NW\, Washington\, DC\, United States
CATEGORIES:Show
ATTACH;FMTTYPE=image/jpeg:https://www.antonioromano.com/wp-content/uploads/2015/05/03.jpg
ORGANIZER;CN="Bill Doe":MAILTO:bill_doe@mail.com
END:VEVENT
BEGIN:VEVENT
DTSTART;TZID=UTC:20230107T190000
DTEND;TZID=UTC:20231231T230000
DTSTAMP:20260423T182551
CREATED:20150925T125856Z
LAST-MODIFIED:20150925T125856Z
UID:7712-1673118000-1704063600@www.antonioromano.com
SUMMARY:Ultra Music Festival
DESCRIPTION:Donec mollis\, metus a varius faucibus\, est magna tempor mauris\, sit amet lobortis nunc sem non lectus. Proin vitae feugiat lorem\, nec lacinia massa. Integer interdum ipsum sed placerat posuere. Etiam dapibus ante in lacus lacinia\, non convallis quam luctus. Vivamus augue nibh\, fermentum quis justo sed\, fermentum maximus magna. Morbi venenatis eros velit\, elementum sodales turpis viverra at. Phasellus finibus mauris a massa malesuada faucibus. Duis euismod vehicula enim eu placerat. Aenean dictum eget lacus in fermentum. Cras ac ipsum imperdiet\, bibendum tortor quis\, mollis risus. Aliquam quis dapibus est. Vestibulum elementum\, ante nec tristique rutrum\, risus augue dapibus sem\, ut bibendum dolor urna sed lacus.
URL:https://www.antonioromano.com/event/ultra-music-festival-2/
LOCATION:Meridian Hill\, 2400 15th St NW Washington\, DC 20008\, Washington\, VA\, United States
CATEGORIES:Show
ATTACH;FMTTYPE=image/jpeg:https://www.antonioromano.com/wp-content/uploads/2015/05/01.jpg
ORGANIZER;CN="Andrew Doe":MAILTO:example@mail.com
END:VEVENT
END:VCALENDAR