BEGIN:VCALENDAR
VERSION:2.0
PRODID:-//Antonio Romano - ECPv6.14.0//NONSGML v1.0//EN
CALSCALE:GREGORIAN
METHOD:PUBLISH
X-ORIGINAL-URL:https://www.antonioromano.com
X-WR-CALDESC:Eventi per Antonio Romano
REFRESH-INTERVAL;VALUE=DURATION:PT1H
X-Robots-Tag:noindex
X-PUBLISHED-TTL:PT1H
BEGIN:VTIMEZONE
TZID:UTC
BEGIN:STANDARD
TZOFFSETFROM:+0000
TZOFFSETTO:+0000
TZNAME:UTC
DTSTART:20230101T000000
END:STANDARD
END:VTIMEZONE
BEGIN:VEVENT
DTSTART;TZID=UTC:20230317T170000
DTEND;TZID=UTC:20240207T220000
DTSTAMP:20260423T151746
CREATED:20150925T125509Z
LAST-MODIFIED:20150925T125509Z
UID:7711-1679072400-1707343200@www.antonioromano.com
SUMMARY:Editions In The Gallery Cafe
DESCRIPTION:Donec mollis\, metus a varius faucibus\, est magna tempor mauris\, sit amet lobortis nunc sem non lectus. Proin vitae feugiat lorem\, nec lacinia massa. Integer interdum ipsum sed placerat posuere. Etiam dapibus ante in lacus lacinia\, non convallis quam luctus. Vivamus augue nibh\, fermentum quis justo sed\, fermentum maximus magna. Morbi venenatis eros velit\, elementum sodales turpis viverra at. Phasellus finibus mauris a massa malesuada faucibus. Duis euismod vehicula enim eu placerat. Aenean dictum eget lacus in fermentum. Cras ac ipsum imperdiet\, bibendum tortor quis\, mollis risus. Aliquam quis dapibus est. Vestibulum elementum\, ante nec tristique rutrum\, risus augue dapibus sem\, ut bibendum dolor urna sed lacus.
URL:https://www.antonioromano.com/event/editions-in-the-gallery-cafe-2/
LOCATION:University of Maryland\, 620 W Lexington St Baltimore\, MD 21201\, Baltimore\, MD\, United States
CATEGORIES:For free
ATTACH;FMTTYPE=image/jpeg:https://www.antonioromano.com/wp-content/uploads/2015/05/01.jpg
ORGANIZER;CN="Bill Doe":MAILTO:bill_doe@mail.com
END:VEVENT
BEGIN:VEVENT
DTSTART;TZID=UTC:20230309T200000
DTEND;TZID=UTC:20240130T050000
DTSTAMP:20260423T151746
CREATED:20150505T045230Z
LAST-MODIFIED:20150505T045230Z
UID:7709-1678392000-1706590800@www.antonioromano.com
SUMMARY:Country Music Festival
DESCRIPTION:Donec mollis\, metus a varius faucibus\, est magna tempor mauris\, sit amet lobortis nunc sem non lectus. Proin vitae feugiat lorem\, nec lacinia massa. Integer interdum ipsum sed placerat posuere. Etiam dapibus ante in lacus lacinia\, non convallis quam luctus. Vivamus augue nibh\, fermentum quis justo sed\, fermentum maximus magna. Morbi venenatis eros velit\, elementum sodales turpis viverra at. Phasellus finibus mauris a massa malesuada faucibus. Duis euismod vehicula enim eu placerat. Aenean dictum eget lacus in fermentum. Cras ac ipsum imperdiet\, bibendum tortor quis\, mollis risus. Aliquam quis dapibus est. Vestibulum elementum\, ante nec tristique rutrum\, risus augue dapibus sem\, ut bibendum dolor urna sed lacus.
URL:https://www.antonioromano.com/event/country-music-festival-2/
LOCATION:Meridian Hill\, 2400 15th St NW Washington\, DC 20008\, Washington\, VA\, United States
CATEGORIES:For free
ATTACH;FMTTYPE=image/jpeg:https://www.antonioromano.com/wp-content/uploads/2015/05/05.jpg
END:VEVENT
BEGIN:VEVENT
DTSTART;TZID=UTC:20230209T200000
DTEND;TZID=UTC:20240102T040000
DTSTAMP:20260423T151746
CREATED:20150430T101753Z
LAST-MODIFIED:20150430T101753Z
UID:7707-1675972800-1704168000@www.antonioromano.com
SUMMARY:Welcome To The Skymall
DESCRIPTION:Donec mollis\, metus a varius faucibus\, est magna tempor mauris\, sit amet lobortis nunc sem non lectus. Proin vitae feugiat lorem\, nec lacinia massa. Integer interdum ipsum sed placerat posuere. Etiam dapibus ante in lacus lacinia\, non convallis quam luctus. Vivamus augue nibh\, fermentum quis justo sed\, fermentum maximus magna. Morbi venenatis eros velit\, elementum sodales turpis viverra at. Phasellus finibus mauris a massa malesuada faucibus. Duis euismod vehicula enim eu placerat. Aenean dictum eget lacus in fermentum. Cras ac ipsum imperdiet\, bibendum tortor quis\, mollis risus. Aliquam quis dapibus est. Vestibulum elementum\, ante nec tristique rutrum\, risus augue dapibus sem\, ut bibendum dolor urna sed lacus.
URL:https://www.antonioromano.com/event/welcome-to-the-skymall-2/
LOCATION:Joint Base Myer-Henderson Hall\, Fort Myer\, VA 22211\, Washington\, VA\, United States
CATEGORIES:For free
ATTACH;FMTTYPE=image/jpeg:https://www.antonioromano.com/wp-content/uploads/2015/05/03.jpg
ORGANIZER;CN="Andrew Doe":MAILTO:example@mail.com
END:VEVENT
END:VCALENDAR